BEGIN:VCALENDAR
VERSION:2.0
PRODID:-//Ziber2013/
CALSCALE:GREGORIAN
BEGIN:VEVENT
UID:258567@https://www.nccnijkerk.nl
DTSTART:20260504T180000
DTEND:20260504T235900
SUMMARY:Maandag 4 mei geen training i.v.m. dodenherdenking
DESCRIPTION:
LOCATION:NCC Nijkerk\, Watergoorweg 50\, 3861 MA Nijkerk
SEQUENCE:0
DTSTAMP:20260420T040625
END:VEVENT
END:VCALENDAR
