BEGIN:VCALENDAR
VERSION:2.0
PRODID:-//Ziber2013/
CALSCALE:GREGORIAN
BEGIN:VEVENT
UID:252930@https://www.nccnijkerk.nl
DTSTART:20260515T083000
DTEND:20260517T170000
SUMMARY:UEC ronde 7 & 8 - La Chapelle Saint Mesmin
DESCRIPTION:
LOCATION:NCC Nijkerk\, Watergoorweg 50\, 3861 MA Nijkerk
ATTACH;FMTTYPE=image/jpeg:/content/31541/agenda/clnt/2403da25ac5f45da97e56e4e535464f2.jpg?width=1600&height=1200
SEQUENCE:0
DTSTAMP:20260424T175657
END:VEVENT
END:VCALENDAR
