BEGIN:VCALENDAR
VERSION:2.0
PRODID:-//Ziber2013/
CALSCALE:GREGORIAN
BEGIN:VEVENT
UID:252926@https://www.nccnijkerk.nl
DTSTART:20260523T083000
DTEND:20260524T170000
SUMMARY:3Nations Esselbach Duitsland
DESCRIPTION:
LOCATION:NCC Nijkerk\, Watergoorweg 50\, 3861 MA Nijkerk
ATTACH;FMTTYPE=image/jpeg:/content/31541/agenda/clnt/d604514f152c4bee8d5020172223d966.jpg?width=1600&height=1200
SEQUENCE:0
DTSTAMP:20260424T175756
END:VEVENT
END:VCALENDAR
