BEGIN:VCALENDAR
VERSION:2.0
PRODID:-//Ziber2013/
CALSCALE:GREGORIAN
BEGIN:VEVENT
UID:252920@https://www.nccnijkerk.nl
DTSTART:20260510T083000
DTEND:20260510T170000
SUMMARY:NC 2 FCC Rijswijk
DESCRIPTION:
LOCATION:NCC Nijkerk\, Watergoorweg 50\, 3861 MA Nijkerk
ATTACH;FMTTYPE=image/jpeg:/content/31541/agenda/clnt/29e34c11b3df46f9985ee5a5aabbd30e.jpg?width=1600&height=1200
SEQUENCE:0
DTSTAMP:20260424T175239
END:VEVENT
END:VCALENDAR
