BEGIN:VCALENDAR
VERSION:2.0
PRODID:-//Ziber2013/
CALSCALE:GREGORIAN
BEGIN:VEVENT
UID:252911@https://www.nccnijkerk.nl
DTSTART:20260523T083000
DTEND:20260523T170000
SUMMARY:Plaatsingswedstrijd NK - Dedemsvaart
DESCRIPTION:
LOCATION:NCC Nijkerk\, Watergoorweg 50\, 3861 MA Nijkerk
ATTACH;FMTTYPE=image/jpeg:/content/31541/agenda/clnt/239d926c3fec48ab81fbb6c492aad8cc.jpg?width=1600&height=1200
SEQUENCE:0
DTSTAMP:20260424T180224
END:VEVENT
END:VCALENDAR
