BEGIN:VCALENDAR
VERSION:2.0
PRODID:-//Ziber2013/
CALSCALE:GREGORIAN
BEGIN:VEVENT
UID:252910@https://www.nccnijkerk.nl
DTSTART:20260509T083000
DTEND:20260509T170000
SUMMARY:Overijssels kampioenschap - Ommen
DESCRIPTION:
LOCATION:NCC Nijkerk\, Watergoorweg 50\, 3861 MA Nijkerk
ATTACH;FMTTYPE=image/jpeg:/content/31541/agenda/clnt/728228db500d4343bc994341d6856568.jpg?width=1600&height=1200
SEQUENCE:0
DTSTAMP:20260424T180425
END:VEVENT
END:VCALENDAR
